BEGIN:VCALENDAR
VERSION:2.0
PRODID:-//ChamberMaster//Event Calendar 2.0//EN
METHOD:PUBLISH
X-PUBLISHED-TTL:P3D
REFRESH-INTERVAL:P3D
CALSCALE:GREGORIAN
BEGIN:VEVENT
DTSTART:20191027T230000Z
DTEND:20191028T020000Z
X-MICROSOFT-CDO-ALLDAYEVENT:FALSE
SUMMARY:Town of Terror presents Hotel MitcHELL haunted house
DESCRIPTION:Step right up and face your fears\, as the scariest Town of Terror has just arrived on the Gulf Coast.
X-ALT-DESC;FMTTYPE=text/html:<span style="color:#333333"><span style="font-size:10.5pt">Step right up and face your fears\, as the scariest Town of Terror has just arrived on the Gulf Coast.&nbsp\;</span></span>
LOCATION:100 N OWA Blvd Foley\, AL 36535
UID:e.1304.13052
SEQUENCE:3
DTSTAMP:20260419T155534Z
URL:https://business.eschamber.com/events/details/town-of-terror-presents-hotel-mitchell-haunted-house-10-27-2019-13052
END:VEVENT

END:VCALENDAR
