BEGIN:VCALENDAR
VERSION:2.0
PRODID:-//ChamberMaster//Event Calendar 2.0//EN
METHOD:PUBLISH
X-PUBLISHED-TTL:P3D
REFRESH-INTERVAL:P3D
CALSCALE:GREGORIAN
BEGIN:VEVENT
DTSTART:20251002T180000Z
DTEND:20251002T220000Z
X-MICROSOFT-CDO-ALLDAYEVENT:FALSE
SUMMARY:Trick or Dink Open Play
DESCRIPTION:Get ready for a spooktacular time at Trick or Dink Open Play at Pickleball at OWA! Come celebrate the season with us every Thursday in October from 1:00 to 5:00 PM. Non-members play for $7\, and members play free! Grab your BONES (paddles) and bring your ghostly crew for an afternoon of friendly competition. It's the perfect way to enjoy the season!\n\n\n\nCheck out all the details and register here: https://visitowa.com/entertainment/pickleball-at-owa/.
X-ALT-DESC;FMTTYPE=text/html:Get ready for a spooktacular time at Trick or Dink Open Play at Pickleball at OWA! Come celebrate the season with us every Thursday in October from 1:00 to 5:00 PM. Non-members play for $7\, and members play free! Grab your BONES (paddles) and bring your ghostly crew for an afternoon of friendly competition. It&rsquo\;s the perfect way to enjoy the season!<br />\n<br />\nCheck out all the details and register here:&nbsp\;<span style="font-size:13px">https://visitowa.com/entertainment/pickleball-at-owa/.</span>
LOCATION:Pickleball at OWA
UID:e.1304.38567
SEQUENCE:3
DTSTAMP:20260419T123512Z
URL:https://business.eschamber.com/events/details/trick-or-dink-open-play-38567
END:VEVENT

END:VCALENDAR
