BEGIN:VCALENDAR
VERSION:2.0
PRODID:-//ChamberMaster//Event Calendar 2.0//EN
METHOD:PUBLISH
X-PUBLISHED-TTL:P3D
REFRESH-INTERVAL:P3D
CALSCALE:GREGORIAN
BEGIN:VEVENT
DTSTART:20191031T210000Z
DTEND:20191031T230000Z
X-MICROSOFT-CDO-ALLDAYEVENT:FALSE
SUMMARY:Trick or Treat/Teen Costume Contest
DESCRIPTION:Daphne Public Library will host its annual Trick or Treat celebration and a teen costume contest (6th-12th grade) will be judged beginning promptly at 5:00 p.m. Games\, candy treats and prizes!
X-ALT-DESC;FMTTYPE=text/html:Daphne Public Library will host its annual Trick or Treat celebration and a teen costume contest (6th-12th grade) will be judged beginning promptly at 5:00 p.m. Games\, candy treats and prizes!
LOCATION:Daphne Public Library
UID:e.1304.13080
SEQUENCE:3
DTSTAMP:20260419T155456Z
URL:https://business.eschamber.com/events/details/trick-or-treat-teen-costume-contest-13080
END:VEVENT

END:VCALENDAR
