BEGIN:VCALENDAR
VERSION:2.0
PRODID:-//ChamberMaster//Event Calendar 2.0//EN
METHOD:PUBLISH
X-PUBLISHED-TTL:P3D
REFRESH-INTERVAL:P3D
CALSCALE:GREGORIAN
BEGIN:VEVENT
DTSTART:20230803T000000Z
DTEND:20230803T020000Z
X-MICROSOFT-CDO-ALLDAYEVENT:FALSE
SUMMARY:Trivia Night at BILL-E's by Pop Culture Trivia Challenge
DESCRIPTION:
X-ALT-DESC;FMTTYPE=text/html:
LOCATION:BILL-E's 19992 AL HWY 181 Fairhope\, AL 36532
UID:e.1304.27760
SEQUENCE:3
DTSTAMP:20260420T020728Z
URL:https://business.eschamber.com/events/details/trivia-night-at-bill-e-s-by-pop-culture-trivia-challenge-27760
END:VEVENT

END:VCALENDAR
