BEGIN:VCALENDAR
VERSION:2.0
PRODID:-//ChamberMaster//Event Calendar 2.0//EN
METHOD:PUBLISH
X-PUBLISHED-TTL:P3D
REFRESH-INTERVAL:P3D
CALSCALE:GREGORIAN
BEGIN:VEVENT
DTSTART:20240720T050000Z
DTEND:20240721T013000Z
X-MICROSOFT-CDO-ALLDAYEVENT:FALSE
SUMMARY:Tuki’s Birthday Celebration
DESCRIPTION:Join us for an epic celebration at Tuki's Birthday Bash on July 20th from noon until 8PM in Downtown OWA and Tropic Falls! The fun kicks off with a lively Birthday Parade and Tuki Meet & Greets happening throughout the day. Enjoy live music\, exciting performances\, and free kids' activities throughout Downtown & inside Tropic Falls! From tropical games and photo ops to delicious treats and fascinating animal encounters\, there's something for everyone. As evening sets in\, groove to live music on the Island Stage and get ready for the grand finale as we sing 'Happy Birthday' to Tuki at 8:00pm\, topped off with a dazzling confetti shower! This day promises fun and fantastic memories   see you there!
X-ALT-DESC;FMTTYPE=text/html:Join us for an epic celebration at Tuki&#39\;s Birthday Bash on July 20th from noon until 8PM in Downtown OWA and Tropic Falls! The fun kicks off with a lively Birthday Parade and Tuki Meet &amp\; Greets happening throughout the day. Enjoy live music\, exciting performances\, and free kids&#39\; activities throughout Downtown &amp\; inside Tropic Falls! From tropical games and photo ops to delicious treats and fascinating animal encounters\, there&#39\;s something for everyone. As evening sets in\, groove to live music on the Island Stage and get ready for the grand finale as we sing &lsquo\;Happy Birthday&rsquo\; to Tuki at 8:00pm\, topped off with a dazzling confetti shower! This day promises fun and fantastic memories &ndash\; see you there!
LOCATION:Downtown OWA and Tropic Falls!
UID:e.1304.32068
SEQUENCE:3
DTSTAMP:20260419T203737Z
URL:https://business.eschamber.com/events/details/tuki-s-birthday-celebration-07-20-2024-32068
END:VEVENT

END:VCALENDAR
