BEGIN:VCALENDAR
VERSION:2.0
PRODID:-//ChamberMaster//Event Calendar 2.0//EN
METHOD:PUBLISH
X-PUBLISHED-TTL:P3D
REFRESH-INTERVAL:P3D
CALSCALE:GREGORIAN
BEGIN:VEVENT
DTSTART:20220915T233000Z
DTEND:20220916T023000Z
X-MICROSOFT-CDO-ALLDAYEVENT:FALSE
SUMMARY:UCP Food & Folly
DESCRIPTION:Bringing the spirit of Mardi Gras to September\, UCP asks Mobile area restaurants to prepare some of their most celebrated cuisine. There is a people choice award and craft breweries and upper scale wines for tasting. There will also be a silent auction including condos\, golf passes and attractions. Music is provided by the Excelsior Band.
X-ALT-DESC;FMTTYPE=text/html:Bringing the spirit of Mardi Gras to September\, UCP asks Mobile area restaurants to prepare some of their most celebrated cuisine. There is a people choice award and craft breweries and upper scale wines for tasting. There will also be a silent auction including condos\, golf passes and attractions. Music is provided by the Excelsior Band.
LOCATION:Fort Whiting Mobile
UID:e.1304.25769
SEQUENCE:3
DTSTAMP:20260423T180102Z
URL:https://business.eschamber.com/events/details/ucp-food-folly-25769
END:VEVENT

END:VCALENDAR
