BEGIN:VCALENDAR
VERSION:2.0
PRODID:-//ChamberMaster//Event Calendar 2.0//EN
METHOD:PUBLISH
X-PUBLISHED-TTL:P3D
REFRESH-INTERVAL:P3D
CALSCALE:GREGORIAN
BEGIN:VEVENT
DTSTART:20191111T170000Z
DTEND:20191112T030000Z
X-MICROSOFT-CDO-ALLDAYEVENT:FALSE
SUMMARY:Veteran's Day Meal at Original Oyster House
DESCRIPTION:To Honor Veterans and Active Military\, Original Oyster House (Gulf Shores and Spanish Fort locations) will serve a free meal this Veteran's Day to all veterans and active military in recognition of their service. Military ID or military uniform is required to be applicable for the free lunch. Sorry\, no to-go orders\, dine-in military customers only. Alcohol and tip not included.
X-ALT-DESC;FMTTYPE=text/html:To Honor Veterans and Active Military\, Original Oyster House (Gulf Shores and Spanish Fort locations) will serve a free meal this Veteran&#39\;s Day to all veterans and active military in recognition of their service. Military ID or military uniform is required to be applicable for the free lunch. Sorry\, no to-go orders\, dine-in military customers only. Alcohol and tip not included.
LOCATION:Original Oyster House\, 701 Gulf Shores Pkwy\, Gulf Shores\, AL Original Oyster House\, 3733 Battleship Pkwy\, Spanish Fort\, AL
UID:e.1304.13020
SEQUENCE:3
DTSTAMP:20260419T143126Z
URL:https://business.eschamber.com/events/details/veteran-s-day-meal-at-original-oyster-house-13020
END:VEVENT

END:VCALENDAR
