BEGIN:VCALENDAR
VERSION:2.0
PRODID:-//ChamberMaster//Event Calendar 2.0//EN
METHOD:PUBLISH
X-PUBLISHED-TTL:P3D
REFRESH-INTERVAL:P3D
CALSCALE:GREGORIAN
BEGIN:VEVENT
DTSTART:20260509T150000Z
DTEND:20260509T190000Z
X-MICROSOFT-CDO-ALLDAYEVENT:FALSE
SUMMARY:Village of Hope Jamboree 2026
DESCRIPTION:Community leaders and local organizations invite all Baldwin County families to the Village of Hope Jamboree 2026\, a free\, family-friendly event dedicated to raising awareness and support for children and families in the foster care and adoption system.\n\n\n\nVillage of Hope is a collaborative effort among community leaders and groups working to address gaps in foster care-related services across Baldwin County. The Jamboree combines fun activities\, entertainment\, and meaningful outreach to inspire greater community involvement\, encourage foster and adoptive families\, and strengthen support networks for local children in need.\n\nAttendees can expect a day of connection\, information about foster care resources\, opportunities to learn how to get involved\, and family-oriented entertainment. The event is open to the public and completely free.\n\n\n\n"More children in Baldwin County need stable\, loving homes than we currently have families ready to help\," said organizers. "The Village of Hope Jamboree gives our community a joyful way to come together\, learn\, and take action to make a real difference."
X-ALT-DESC;FMTTYPE=text/html:Community leaders and local organizations invite all Baldwin County families to the <strong><span style="font-family:aptos\,sans-serif\;">Village of Hope Jamboree 2026</span></strong>\, a free\, family-friendly event dedicated to raising awareness and support for children and families in the foster care and adoption system.<br />\n<br />\nVillage of Hope is a collaborative effort among community leaders and groups working to address gaps in foster care-related services across Baldwin County. The Jamboree combines fun activities\, entertainment\, and meaningful outreach to inspire greater community involvement\, encourage foster and adoptive families\, and strengthen support networks for local children in need.<br />\nAttendees can expect a day of connection\, information about foster care resources\, opportunities to learn how to get involved\, and family-oriented entertainment. The event is open to the public and completely free.<br />\n<br />\n&ldquo\;More children in Baldwin County need stable\, loving homes than we currently have families ready to help\,&rdquo\; said organizers. &ldquo\;The Village of Hope Jamboree gives our community a joyful way to come together\, learn\, and take action to make a real difference.&rdquo\;
LOCATION:University of South Alabama Baldwin County 10 Summit Street N. Fairhope\, AL 36532
UID:e.1304.40501
SEQUENCE:3
DTSTAMP:20260422T040223Z
URL:https://business.eschamber.com/events/details/village-of-hope-jamboree-2026-40501
END:VEVENT

END:VCALENDAR
