BEGIN:VCALENDAR
VERSION:2.0
PRODID:-//ChamberMaster//Event Calendar 2.0//EN
METHOD:PUBLISH
X-PUBLISHED-TTL:P3D
REFRESH-INTERVAL:P3D
CALSCALE:GREGORIAN
BEGIN:VEVENT
DTSTART:20191129T220000Z
DTEND:20191225T030000Z
X-MICROSOFT-CDO-ALLDAYEVENT:FALSE
SUMMARY:Wales West Arctic Express
DESCRIPTION:The 2019 Arctic Express train returns to Wales West on Nov. 29! Through December 24\, you can ride an authentic steam train through a snowy winter wonderland to the North Pole and visit Santa Claus. Come see more than 1 million twinkling lights and receive a free toy as a memento of the trip! Starting Nov. 29\, the Arctic Express runs from 4-9 p.m. Friday-Sunday\, and from 4-9 p.m. nightly starting December 12.
X-ALT-DESC;FMTTYPE=text/html:The 2019 Arctic Express train returns to Wales West on Nov. 29! Through December 24\, you can ride an authentic steam train through a snowy winter wonderland to the North Pole and visit Santa Claus. Come see more than 1 million twinkling lights and receive a free toy as a memento of the trip! Starting Nov. 29\, the Arctic Express runs from 4-9 p.m. Friday-Sunday\, and from 4-9 p.m. nightly starting December 12.
LOCATION:Wales West 13670 Smiley Street Silverhill\, Alabama 36576
UID:e.1304.13123
SEQUENCE:3
DTSTAMP:20260419T141838Z
URL:https://business.eschamber.com/events/details/wales-west-arctic-express-13123
END:VEVENT

END:VCALENDAR
