BEGIN:VCALENDAR
VERSION:2.0
PRODID:-//ChamberMaster//Event Calendar 2.0//EN
METHOD:PUBLISH
X-PUBLISHED-TTL:P3D
REFRESH-INTERVAL:P3D
CALSCALE:GREGORIAN
BEGIN:VEVENT
DTSTART;VALUE=DATE:20210301
DTEND;VALUE=DATE:20210401
TRANSP:TRANSPARENT
X-MICROSOFT-CDO-ALLDAYEVENT:TRUE
SUMMARY:Warrior Challenge
DESCRIPTION:American Autism & Rehabilitation Foundation is hosting a virtual walking or running challenge to be completed during the month of March! You can choose your challenge - 31 miles\, 65 miles or 100 miles. Pick a goal that stretches you!
X-ALT-DESC;FMTTYPE=text/html:American Autism &amp\; Rehabilitation Foundation is hosting a virtual walking or running challenge to be completed during the month of March! You can choose your challenge - 31 miles\, 65 miles or 100 miles. Pick a goal that stretches you!
LOCATION:Virtual walking or running during the month of March
UID:e.1304.19459
SEQUENCE:3
DTSTAMP:20260423T221757Z
URL:https://business.eschamber.com/events/details/warrior-challenge-19459
END:VEVENT

END:VCALENDAR
