BEGIN:VCALENDAR
VERSION:2.0
PRODID:-//ChamberMaster//Event Calendar 2.0//EN
METHOD:PUBLISH
X-PUBLISHED-TTL:P3D
REFRESH-INTERVAL:P3D
CALSCALE:GREGORIAN
BEGIN:VEVENT
DTSTART:20191022T223000Z
DTEND:20191023T010000Z
X-MICROSOFT-CDO-ALLDAYEVENT:FALSE
SUMMARY:WBA Witches & Wine Halloween Party
DESCRIPTION:Join us for our 1st Annual Witches & Wine Halloween Costume Party and Networking Event on October 22nd\, 2019\, from 5:30-8:00. The event features a cash drawdown\, live music\, auction\, food\, cash bar\, networking\, and giveaways. We are so excited to have Alchemy Tavern serve as our venue. The amazing Tyger Bullock will keep the drinks flowing from our private bar. You don't want to miss our musical entertainment. The Blackwater Brass Band is a 10 piece funk and jazz band that knows how to keep you moving with their high energy jams. The auction will be packed with great items for both the ladies and gents. Food from several phenomenal local restaurants is included in the ticket price. Lisa Cox with PCox will be selling her fun\, funky\, and fabulous custom witches hats and accessories just in time to get you ready for area Witches Rides. The money raised from this event will support The Womens Business Alliance of South Alabama\, a federally recognized not for profit 501(C)(3). The mission of WBA is the economic empowerment of women by assisting them start and grow successful small businesses.
X-ALT-DESC;FMTTYPE=text/html:Join us for our 1st Annual Witches &amp\; Wine Halloween Costume Party and Networking Event on October 22nd\, 2019\, from 5:30-8:00. The event features a cash drawdown\, live music\, auction\, food\, cash bar\, networking\, and giveaways. We are so excited to have Alchemy Tavern serve as our venue. The amazing Tyger Bullock will keep the drinks flowing from our private bar. You don&#39\;t want to miss our musical entertainment. The Blackwater Brass Band is a 10 piece funk and jazz band that knows how to keep you moving with their high energy jams. The auction will be packed with great items for both the ladies and gents. Food from several phenomenal local restaurants is included in the ticket price. Lisa Cox with PCox will be selling her fun\, funky\, and fabulous custom witches hats and accessories just in time to get you ready for area Witches Rides. The money raised from this event will support The Womens Business Alliance of South Alabama\, a federally recognized not for profit 501(C)(3). The mission of WBA is the economic empowerment of women by assisting them start and grow successful small businesses.
LOCATION:Alchemy Tavern Mobile\, AL
UID:e.1304.13018
SEQUENCE:3
DTSTAMP:20260419T160505Z
URL:https://business.eschamber.com/events/details/wba-witches-wine-halloween-party-13018
END:VEVENT

END:VCALENDAR
