BEGIN:VCALENDAR
VERSION:2.0
PRODID:-//ChamberMaster//Event Calendar 2.0//EN
METHOD:PUBLISH
X-PUBLISHED-TTL:P3D
REFRESH-INTERVAL:P3D
CALSCALE:GREGORIAN
BEGIN:VEVENT
DTSTART:20240731T140000Z
DTEND:20240731T160000Z
X-MICROSOFT-CDO-ALLDAYEVENT:FALSE
SUMMARY:Weathering the Storm: Landscape Resilience
DESCRIPTION:Get prepared for inclement weather! Learn more about: Assessing your trees for storm readiness Manipulating tree structure for resiliency Preparing your landscape for a coming storm Landscape recovery post storm
X-ALT-DESC;FMTTYPE=text/html:Get prepared for inclement weather! Learn more about: Assessing your trees for storm readiness Manipulating tree structure for resiliency Preparing your landscape for a coming storm Landscape recovery post storm
LOCATION:Coastal Alabama Community College Fairhope Campus\, Giddens Auditorium\, 450 Fairhope Avenue\, Fairhope\, AL 36532
UID:e.1304.32600
SEQUENCE:3
DTSTAMP:20260419T193119Z
URL:https://business.eschamber.com/events/details/weathering-the-storm-landscape-resilience-32600
END:VEVENT

END:VCALENDAR
