BEGIN:VCALENDAR
VERSION:2.0
PRODID:-//ChamberMaster//Event Calendar 2.0//EN
METHOD:PUBLISH
X-PUBLISHED-TTL:P3D
REFRESH-INTERVAL:P3D
CALSCALE:GREGORIAN
BEGIN:VEVENT
DTSTART:20210127T163000Z
DTEND:20210127T173000Z
X-MICROSOFT-CDO-ALLDAYEVENT:FALSE
SUMMARY:Winter Wednesdays at Bellingrath: A History of Mobile in 22 Objects
DESCRIPTION:Winter Wednesdays at Bellingrath: A History of Mobile in 22 Objects\, with Meg McCrummen Fowler\, Director of the History Museum of Mobile. Meg will discuss the museum's new exhibit\, a look at 22 distinctive items from the collection representing more than 300 years of Mobile history. An artist has created a special azalea sculpture to represent the history of azaleas in Mobile as well as at Bellingrath. The catalog from the exhibit is available for purchase in the Gift Shop. The event is part of the series of Winter Wednesdays at Bellingrath in January and February. Visit bellingrath.org to view the full schedule\; call 251-459-8868 or email astrickland@bellingrath.org to register.
X-ALT-DESC;FMTTYPE=text/html:Winter Wednesdays at Bellingrath: A History of Mobile in 22 Objects\, with Meg McCrummen Fowler\, Director of the History Museum of Mobile. Meg will discuss the museum&rsquo\;s new exhibit\, a look at 22 distinctive items from the collection representing more than 300 years of Mobile history. An artist has created a special azalea sculpture to represent the history of azaleas in Mobile as well as at Bellingrath. The catalog from the exhibit is available for purchase in the Gift Shop.&nbsp\;<span style="color:#333333"><span style="font-family:arial\,sans-serif"><span style="font-size:10.0pt">The event is part of the series of Winter Wednesdays at Bellingrath in January and February. Visit bellingrath.org to view the full schedule\; call 251-459-8868 or email astrickland@bellingrath.org to register.</span></span></span>
LOCATION:Bellingrath Gardens and Home\, 12401 Bellingrath Gardens Road\, Theodore\, AL 36582
UID:e.1304.16999
SEQUENCE:3
DTSTAMP:20260424T001821Z
URL:https://business.eschamber.com/events/details/winter-wednesdays-at-bellingrath-a-history-of-mobile-in-22-objects-16999
END:VEVENT

END:VCALENDAR
