BEGIN:VCALENDAR
VERSION:2.0
PRODID:-//ChamberMaster//Event Calendar 2.0//EN
METHOD:PUBLISH
X-PUBLISHED-TTL:P3D
REFRESH-INTERVAL:P3D
CALSCALE:GREGORIAN
BEGIN:VEVENT
DTSTART:20210224T163000Z
DTEND:20210224T173000Z
X-MICROSOFT-CDO-ALLDAYEVENT:FALSE
SUMMARY:Winter Wednesdays at Bellingrath: Cool and Crazy Plants in the Gardens
DESCRIPTION:Winter Wednesdays at Bellingrath: Cool and Crazy Plants in the Gardens\, with Todd Lasseigne\, Executive Director of Bellingrath Gardens and Home. There are so many unusual and special things growing in the Gardens! Todd Lasseigne\, who has taken plant-finding expeditions all over the world\, will describe the exotics that thrive in our Gulf Coast climate.
X-ALT-DESC;FMTTYPE=text/html:Winter Wednesdays at Bellingrath: Cool and Crazy Plants in the Gardens\, with Todd Lasseigne\, Executive Director of Bellingrath Gardens and Home. There are so many unusual and special things growing in the Gardens! Todd Lasseigne\, who has taken plant-finding expeditions all over the world\, will describe the exotics that thrive in our Gulf Coast climate.
LOCATION:Bellingrath Gardens and Home\, 12401 Bellingrath Gardens Road\, Theodore\, AL 36582
UID:e.1304.17002
SEQUENCE:3
DTSTAMP:20260423T222923Z
URL:https://business.eschamber.com/events/details/winter-wednesdays-at-bellingrath-cool-and-crazy-plants-in-the-gardens-17002
END:VEVENT

END:VCALENDAR
