BEGIN:VCALENDAR
VERSION:2.0
PRODID:-//ChamberMaster//Event Calendar 2.0//EN
METHOD:PUBLISH
X-PUBLISHED-TTL:P3D
REFRESH-INTERVAL:P3D
CALSCALE:GREGORIAN
BEGIN:VEVENT
DTSTART:20210203T163000Z
DTEND:20210203T173000Z
X-MICROSOFT-CDO-ALLDAYEVENT:FALSE
SUMMARY:Winter Garden Walk at Bellingrath Gardens and Home
DESCRIPTION:There is always something blooming at Bellingrath Gardens! Learn about the interesting winter borders and containers throughout the Gardens from Bellingrath's Horticulture Management Team: Chuck Owens\, Horticultural Management Director\, and Barbara Smith\, Display Coordinator. The Garden Walk is part of the Winter Wednesdays series at Bellingrath Gardens and Home in January and February. Visit bellingrath.org for the full schedule.
X-ALT-DESC;FMTTYPE=text/html:<p><span style="font-size:14px"><span style="font-family:arial\,helvetica\,sans-serif"><span style="background-color:rgb(243\, 243\, 243)\; color:rgb(102\, 102\, 102)">There is always something blooming at Bellingrath Gardens! Learn about the interesting winter borders and containers throughout the Gardens from Bellingrath&rsquo\;s Horticulture Management Team: Chuck Owens\, Horticultural Management Director\, and Barbara Smith\, Display Coordinator.</span>&nbsp\;</span></span><span style="font-family:arial\,sans-serif"><span style="font-size:10pt"><span style="font-size:14px"><span style="font-family:arial\,helvetica\,sans-serif">The</span></span> Garden Walk is part of the Winter Wednesdays series at Bellingrath Gardens and Home in January and February. Visit bellingrath.org for the full schedule.</span></span></p>\n
LOCATION:Bellingrath Gardens and Home\, 12401 Bellingrath Gardens Road\, Theodore\, AL 36582
UID:e.1304.2744
SEQUENCE:3
DTSTAMP:20260423T222914Z
URL:https://business.eschamber.com/events/details/winter-wednesdays-at-bellingrath-growing-vegetables-with-bill-finch-2744
END:VEVENT

END:VCALENDAR
