BEGIN:VCALENDAR
VERSION:2.0
PRODID:-//ChamberMaster//Event Calendar 2.0//EN
METHOD:PUBLISH
X-PUBLISHED-TTL:P3D
REFRESH-INTERVAL:P3D
CALSCALE:GREGORIAN
BEGIN:VEVENT
DTSTART:20210217T163000Z
DTEND:20210217T173000Z
X-MICROSOFT-CDO-ALLDAYEVENT:FALSE
SUMMARY:Winter Wednesdays at Bellingrath: Origins of Azaleas
DESCRIPTION:Winter Wednesdays at Bellingrath: Origins of Azaleas\, with Marten van der Giessen. Join this distinguished horticulturist for an overview of the types and provenance of the South's most beloved flower. Learn Marten's best practices for growing spring showstoppers!
X-ALT-DESC;FMTTYPE=text/html:Winter Wednesdays at Bellingrath: Origins of Azaleas\, with Marten van der Giessen. Join this distinguished horticulturist for an overview of the types and provenance of the South&rsquo\;s most beloved flower. Learn Marten&rsquo\;s best practices for growing spring showstoppers!
LOCATION:Bellingrath Gardens and Home\, 12401 Bellingrath Gardens Road\, Theodore\, AL 36582
UID:e.1304.17001
SEQUENCE:3
DTSTAMP:20260423T223148Z
URL:https://business.eschamber.com/events/details/winter-wednesdays-at-bellingrath-origins-of-azaleas-17001
END:VEVENT

END:VCALENDAR
