BEGIN:VCALENDAR
VERSION:2.0
PRODID:-//ChamberMaster//Event Calendar 2.0//EN
METHOD:PUBLISH
X-PUBLISHED-TTL:P3D
REFRESH-INTERVAL:P3D
CALSCALE:GREGORIAN
BEGIN:VEVENT
DTSTART:20210210T163000Z
DTEND:20210210T173000Z
X-MICROSOFT-CDO-ALLDAYEVENT:FALSE
SUMMARY:Winter Wednesdays at Bellingrath: The Basics of Vegetable Gardening
DESCRIPTION:Winter Wednesdays at Bellingrath: Grow More\, Give More\, with Jack LeCroy\, Regional Extension Agent with the Alabama Cooperative Extension System. Vegetable gardening can be a great activity for your family\, but it can also be very daunting if you aren't sure where to start. Learn the basics of vegetable gardening and how to get things started on the right foot. Bring your questions!
X-ALT-DESC;FMTTYPE=text/html:Winter Wednesdays at Bellingrath: Grow More\, Give More\, with Jack LeCroy\, Regional Extension Agent with the Alabama Cooperative Extension System. Vegetable gardening can be a great activity for your family\, but it can also be very daunting if you aren&rsquo\;t sure where to start. Learn the basics of vegetable gardening and how to get things started on the right foot. Bring your questions!
LOCATION:Bellingrath Gardens and Home\, 12401 Bellingrath Gardens Road\, Theodore\, AL 36582
UID:e.1304.17000
SEQUENCE:3
DTSTAMP:20260423T223016Z
URL:https://business.eschamber.com/events/details/winter-wednesdays-at-bellingrath-the-basics-of-vegetable-gardening-17000
END:VEVENT

END:VCALENDAR
