BEGIN:VCALENDAR
VERSION:2.0
PRODID:-//ChamberMaster//Event Calendar 2.0//EN
METHOD:PUBLISH
X-PUBLISHED-TTL:P3D
REFRESH-INTERVAL:P3D
CALSCALE:GREGORIAN
BEGIN:VEVENT
DTSTART:20210728T153000Z
DTEND:20210728T163000Z
X-MICROSOFT-CDO-ALLDAYEVENT:FALSE
SUMMARY:Wonderful Wednesdays at Bellingrath: Life in Mobile during the Civil War\, with Author Paula Webb
DESCRIPTION:Paula Webb\, a tenured librarian at the University of South Alabama\, will discuss her research on Mobile's history during the Civil War. Webb is the author of "Mobile Under Siege: Surviving the Union Blockade" and "Such a Woman: The Life of Octavia Walton LeVert." This event is part of the Wonderful Wednesdays series at Bellingrath in June and July. Visit bellingrath.org to view the full schedule. Registration is requested\; to register\, please call 251-459-8986. Admission is regular Gardens admission: $14 for adults and $8 for ages 5-12. There is no charge for members of the Friends of Bellingrath or for ages 4 and younger.
X-ALT-DESC;FMTTYPE=text/html:<span style="background-color:rgb(243\, 243\, 243)\; color:rgb(97\, 97\, 97)\; font-family:open sans\,sans-serif\; font-size:14px">Paula Webb\, a tenured librarian at the University of South Alabama\, will discuss her research on Mobile&#39\;s history during the Civil War. Webb is the author of &quot\;Mobile Under Siege: Surviving the Union Blockade&quot\; and &quot\;Such a Woman: The Life of Octavia Walton LeVert.&quot\;&nbsp\;</span>This event is part of the Wonderful Wednesdays series at Bellingrath in June and July. Visit bellingrath.org to view the full schedule. Registration is requested\; to register\, please call 251-459-8986. Admission is regular Gardens admission: $14 for adults and $8 for ages 5-12. There is no charge for members of the Friends of Bellingrath or for ages 4 and younger.
LOCATION:12401 Bellingrath Gardens Road Theodore\, Alabama
UID:e.1304.14071
SEQUENCE:3
DTSTAMP:20260420T115040Z
URL:https://business.eschamber.com/events/details/wonderful-wednesdays-at-bellingrath-author-dr-larry-krumenaker-14071
END:VEVENT

END:VCALENDAR
