BEGIN:VCALENDAR
VERSION:2.0
PRODID:-//ChamberMaster//Event Calendar 2.0//EN
METHOD:PUBLISH
X-PUBLISHED-TTL:P3D
REFRESH-INTERVAL:P3D
CALSCALE:GREGORIAN
BEGIN:VEVENT
DTSTART:20210715T010000Z
DTEND:20210715T030000Z
X-MICROSOFT-CDO-ALLDAYEVENT:FALSE
SUMMARY:Wonderful Wednesdays at Bellingrath: Viewing the Summer Sky
DESCRIPTION:Join us for an evening astronomy program led by members of the University of South Alabama Department of Physics. After an introductory presentation\, guests will walk to the Great Lawn to view planets and constellations\, weather permitting. Telescopes will be set up to view planets and constellations. Guests are encouraged to bring binoculars and flashlights. In the event of inclement weather\, the class will be rescheduled to either July 15 or July 16. Reservations are requested\; to make a reservation\, or for more information\, please call 251-459-8986.
X-ALT-DESC;FMTTYPE=text/html:<span style="background-color:rgb(243\, 243\, 243)\; color:rgb(97\, 97\, 97)\; font-family:open sans\,sans-serif\; font-size:14px">Join us for an evening astronomy program led by members of the University of South Alabama Department of Physics. After an introductory presentation\, guests will walk to the Great Lawn to view planets and constellations\, weather permitting. Telescopes will be set up to view planets and constellations. Guests are encouraged to bring binoculars and flashlights. In the event of inclement weather\, the class will be rescheduled to either July 15 or July 16. R</span><span style="color:rgb(29\, 33\, 41)\; font-family:helvetica\,arial\,sans-serif\; font-size:14px">eservations are requested\; to make a reservation\, or for more information\, please call 251-459-8986.</span>
LOCATION:Bellingrath Gardens and Home\, 12401 Bellingrath Gardens Road\, Theodore\, Alabama\, 36582
UID:e.1304.1415
SEQUENCE:3
DTSTAMP:20260420T115046Z
URL:https://business.eschamber.com/events/details/wonderful-wednesdays-at-bellingrath-beautiful-objects-with-a-colorful-past-07-20-2016-1415
END:VEVENT

END:VCALENDAR
