BEGIN:VCALENDAR
VERSION:2.0
PRODID:-//ChamberMaster//Event Calendar 2.0//EN
METHOD:PUBLISH
X-PUBLISHED-TTL:P3D
REFRESH-INTERVAL:P3D
CALSCALE:GREGORIAN
BEGIN:VEVENT
DTSTART:20210721T233000Z
DTEND:20210722T010000Z
X-MICROSOFT-CDO-ALLDAYEVENT:FALSE
SUMMARY:Wonderful Wednesdays at Bellingrath: Terra Cotta Planter Workshop
DESCRIPTION:Join Bellingrath's Yvonne Clark as she shows you how to create your own one-of-a-kind planter. All supplies are included. This session requires a fee of $25 to cover the costs of supplies. Please note that space is limited and that reservations are required to attend. To make a reservation\, or for more information\, please call 251-459-8986.
X-ALT-DESC;FMTTYPE=text/html:<span style="background-color:rgb(243\, 243\, 243)\; color:rgb(97\, 97\, 97)\; font-family:open sans\,sans-serif\; font-size:14px">Join Bellingrath&#39\;s Yvonne Clark as she shows you how to create your own one-of-a-kind planter.&nbsp\;</span><span style="background-color:rgb(243\, 243\, 243)\; color:rgb(102\, 102\, 102)\; font-family:open sans\,helvetica neue\,arial\,sans-serif\; font-size:14px">All supplies are included. This session requires a fee of $25 to cover the costs of supplies.&nbsp\;</span><strong>Please note that space is limited and that reservations are required to attend.&nbsp\;</strong><span style="color:rgb(102\, 102\, 102)\; font-family:open sans\,helvetica neue\,arial\,sans-serif\; font-size:14px">To make a reservation\, or for more information\, please call 251-459-8986.</span>
LOCATION:Bellingrath Gardens and Home\, 12401 Bellingrath Gardens Road\, Theodore\, Alabama\, 36582
UID:e.1304.1416
SEQUENCE:3
DTSTAMP:20260420T114952Z
URL:https://business.eschamber.com/events/details/wonderful-wednesdays-at-bellingrath-native-azaleas-07-27-2016-1416
END:VEVENT

END:VCALENDAR
