BEGIN:VCALENDAR
VERSION:2.0
PRODID:-//ChamberMaster//Event Calendar 2.0//EN
METHOD:PUBLISH
X-PUBLISHED-TTL:P3D
REFRESH-INTERVAL:P3D
CALSCALE:GREGORIAN
BEGIN:VEVENT
DTSTART:20230926T223000Z
DTEND:20230926T233000Z
X-MICROSOFT-CDO-ALLDAYEVENT:FALSE
SUMMARY:Yoga on the Bluff
DESCRIPTION:Come join us for Yoga on the Bluff! All levels welcome! Modifications will be offered for beginners. Please bring a mat\, a thick beach towel (or yoga blanket)\, and a yoga block if you have one. Benefitting SKB Foundation to provide bullying/cyberbullying prevention and suicide awareness programs for students and communities.
X-ALT-DESC;FMTTYPE=text/html:Come join us for Yoga on the Bluff! All levels welcome! Modifications will be offered for beginners. Please bring a mat\, a thick beach towel (or yoga blanket)\, and a yoga block if you have one. Benefitting SKB Foundation to provide bullying/cyberbullying prevention and suicide awareness programs for students and communities.
LOCATION:Meet above the pier on the north side at the corner of Magnolia and Fairhope Avenue.
UID:e.1304.28096
SEQUENCE:3
DTSTAMP:20260420T020343Z
URL:https://business.eschamber.com/events/details/yoga-on-the-bluff-09-26-2023-28096
END:VEVENT

END:VCALENDAR
