BEGIN:VCALENDAR
VERSION:2.0
PRODID:-//ChamberMaster//Event Calendar 2.0//EN
METHOD:PUBLISH
X-PUBLISHED-TTL:P3D
REFRESH-INTERVAL:P3D
CALSCALE:GREGORIAN
BEGIN:VEVENT
DTSTART:20230215T233000Z
DTEND:20230216T013000Z
X-MICROSOFT-CDO-ALLDAYEVENT:FALSE
SUMMARY:Young Professional February Social Collaboration
DESCRIPTION:February Social Collaboration with the Mobile Young Professionals. \n\nRegister using this link: https://ypofmob.com/events
X-ALT-DESC;FMTTYPE=text/html:February Social Collaboration with the Mobile Young Professionals.&nbsp\;<br />\nRegister using this link:&nbsp\;https://ypofmob.com/events
LOCATION:Cafe Del Rio 1175 Battleship Pkwy\, Spanish Fort\, AL 36527
UID:e.1304.27296
SEQUENCE:3
DTSTAMP:20260421T164515Z
URL:https://business.eschamber.com/events/details/young-professional-february-social-collaboration-27296
END:VEVENT

END:VCALENDAR
