BEGIN:VCALENDAR
VERSION:2.0
PRODID:-//ChamberMaster//Event Calendar 2.0//EN
METHOD:PUBLISH
X-PUBLISHED-TTL:P3D
REFRESH-INTERVAL:P3D
CALSCALE:GREGORIAN
BEGIN:VEVENT
DTSTART:20201112T230000Z
DTEND:20201113T010000Z
X-MICROSOFT-CDO-ALLDAYEVENT:FALSE
SUMMARY:Young Professionals Social
DESCRIPTION:The Young Professionals come together to share initiatives\, develop their careers and network. This group is geared toward our under-40 crowd.\n\n\n\nMonthly socials are free to attend.
X-ALT-DESC;FMTTYPE=text/html:The Young Professionals come together to share initiatives\, develop their careers and network. This group is geared toward our under-40 crowd.<br />\n<br />\nMonthly socials are free to attend.
LOCATION:Fairhope Brewing Company 914 Nichols Avenue\, Fairhope
UID:e.1304.13528
SEQUENCE:3
DTSTAMP:20260424T031852Z
URL:https://business.eschamber.com/events/details/young-professionals-social-11-19-2020-13528
END:VEVENT

END:VCALENDAR
