BEGIN:VCALENDAR
VERSION:2.0
PRODID:-//ChamberMaster//Event Calendar 2.0//EN
METHOD:PUBLISH
X-PUBLISHED-TTL:P3D
REFRESH-INTERVAL:P3D
CALSCALE:GREGORIAN
BEGIN:VEVENT
DTSTART:20210715T223000Z
DTEND:20210716T003000Z
X-MICROSOFT-CDO-ALLDAYEVENT:FALSE
SUMMARY:Young Professionals Social at Wingfingers
DESCRIPTION:Young Professionals Social\n\nWingfingers\n\n25 Greeno Rd S\, Fairhope\n\nThursday\, July 15\n\n5:30 - 7:30 PM\n\nNo fee or registration is required. This months social is super casual. Come join us and meet some friendly faces.
X-ALT-DESC;FMTTYPE=text/html:<div class="kvgmc6g5 cxmmr5t8 oygrvhab hcukyx3x c1et5uql" style="overflow-wrap: break-word\; margin: 0px\; font-family: system-ui\, -apple-system\, system-ui\, &quot\;.SFNSText-Regular&quot\;\, sans-serif\; color: rgb(5\, 5\, 5)\; font-size: 15px\;">Young Professionals Social<br />\nWingfingers<br />\n25 Greeno Rd S\, Fairhope<br />\nThursday\, July 15<br />\n5:30 - 7:30 PM</div>\n\n<div class="o9v6fnle cxmmr5t8 oygrvhab hcukyx3x c1et5uql" style="overflow-wrap: break-word\; margin: 0.5em 0px 0px\; font-family: system-ui\, -apple-system\, system-ui\, &quot\;.SFNSText-Regular&quot\;\, sans-serif\; color: rgb(5\, 5\, 5)\; font-size: 15px\;">No fee or registration is required. This months social is super casual. Come join us and meet some friendly faces.</div>\n
LOCATION:Wingfingers 25 Greeno Rd S\, Fairhope
UID:e.1304.22157
SEQUENCE:3
DTSTAMP:20260420T114221Z
URL:https://business.eschamber.com/events/details/young-professionals-social-at-wingfingers-22157
END:VEVENT

END:VCALENDAR
