BEGIN:VCALENDAR
VERSION:2.0
PRODID:-//ChamberMaster//Event Calendar 2.0//EN
METHOD:PUBLISH
X-PUBLISHED-TTL:P3D
REFRESH-INTERVAL:P3D
CALSCALE:GREGORIAN
BEGIN:VEVENT
DTSTART:20210520T223000Z
DTEND:20210521T003000Z
X-MICROSOFT-CDO-ALLDAYEVENT:FALSE
SUMMARY:Young Professionals Trivia Night
DESCRIPTION:The 2021 Trivia Night will benefit the Spanish Fort Public Library's Summer Reading Program. \n\n\n\nTo sign up:\n\nRegister your team of 4 by clicking the Register button.\n\n$150 per Team of 4\n\n\n\nPayments can be made to:\n\nFriends of the Spanish Fort Public Library\n\nP.O. Box 7190\n\nSpanish Fort\, AL 36577\n\n \n\nFriends of the Spanish Fort Public Library is a 501(c)3 non-profit organization and donations are tax-deductible.  Their Federal Tax ID is 83:4514086.
X-ALT-DESC;FMTTYPE=text/html:<span style="color: rgb(5\, 5\, 5)\; font-family: system-ui\, -apple-system\, system-ui\, &quot\;.SFNSText-Regular&quot\;\, sans-serif\; font-size: 15px\;">The 2021 Trivia Night will benefit the Spanish Fort Public Library&#39\;s Summer Reading Program.&nbsp\;</span><br />\n<br />\nTo sign up:<br />\nRegister your team of 4 by clicking the Register button.<br />\n$150 per Team of 4<br />\n<br />\nPayments can be made to:<br />\nFriends&nbsp\;of&nbsp\;the&nbsp\;Spanish&nbsp\;Fort Public&nbsp\;Library<br />\nP.O. Box 7190<br />\nSpanish&nbsp\;Fort\, AL 36577<br />\n&nbsp\;<br />\nFriends&nbsp\;of&nbsp\;the&nbsp\;Spanish&nbsp\;Fort Public&nbsp\;Library&nbsp\;is a 501(c)3 non-profit organization and donations are tax-deductible.&nbsp\;&nbsp\;Their Federal Tax ID is 83:4514086.&nbsp\;<br />\n&nbsp\;
LOCATION:Timbercreek Golf Club 9650 Timbercreek Blvd.Spanish Fort\, AL
UID:e.1304.20619
SEQUENCE:3
DTSTAMP:20260423T175035Z
URL:https://business.eschamber.com/events/details/young-professionals-trivia-night-20619
END:VEVENT

END:VCALENDAR
