BEGIN:VCALENDAR
VERSION:2.0
PRODID:-//ChamberMaster//Event Calendar 2.0//EN
METHOD:PUBLISH
X-PUBLISHED-TTL:P3D
REFRESH-INTERVAL:P3D
CALSCALE:GREGORIAN
BEGIN:VEVENT
DTSTART:20201210T233000Z
DTEND:20201211T013000Z
X-MICROSOFT-CDO-ALLDAYEVENT:FALSE
SUMMARY:YP Tacky Sweater Party
DESCRIPTION:Join us for our end of the year Tacky Sweater Party at LWCC! It will be a fun night with a competition to see who can come in the tackiest holiday attire! So pull out your Rudolph nose and light up Santa hat and invite your friends to join us.
X-ALT-DESC;FMTTYPE=text/html:<span style="color: rgb(29\, 33\, 41)\; font-family: system-ui\, -apple-system\, system-ui\, &quot\;.SFNSText-Regular&quot\;\, sans-serif\; font-size: 14px\; white-space: pre-wrap\;">Join us for our end of the year Tacky Sweater Party at LWCC! It will be a fun night with a competition to see who can come in the tackiest holiday attire! So pull out your Rudolph nose and light up Santa hat and invite your friends to join us.</span>
LOCATION:Little Whiskey Christmas Club 14 N. Church Street Fairhope
UID:e.1304.13532
SEQUENCE:3
DTSTAMP:20260424T014816Z
URL:https://business.eschamber.com/events/details/yp-tacky-sweater-party-13532
END:VEVENT

END:VCALENDAR
